BEGIN:VCALENDAR
VERSION:2.0
METHOD:PUBLISH
PRODID:-//Accessible Web Design//My Calendar//http://www.joedolson.com//v//EN';
BEGIN:VEVENT
UID:58-57
LOCATION:
SUMMARY:Live Music - Jason Jenkins
DTSTAMP:20240222T180000
ORGANIZER;CN=Kevin:MAILTO:kevin@trademarkvenues.com
DTSTART:20240222T180000
DTEND:20240222T210000
CATEGORIES:Live Music
URL;VALUE=URI:https://harlowslounge.com/mc-events/live-music-jason-jenkins-9/?mc_id=58
DESCRIPTION:
END:VEVENT
END:VCALENDAR